BEGIN:VCALENDAR
VERSION:2.0
PRODID:-// - ECPv6.15.20//NONSGML v1.0//EN
CALSCALE:GREGORIAN
METHOD:PUBLISH
X-ORIGINAL-URL:https://www.imkerverein-flensburg.de
X-WR-CALDESC:Veranstaltungen für 
REFRESH-INTERVAL;VALUE=DURATION:PT1H
X-Robots-Tag:noindex
X-PUBLISHED-TTL:PT1H
BEGIN:VTIMEZONE
TZID:Europe/Berlin
BEGIN:DAYLIGHT
TZOFFSETFROM:+0100
TZOFFSETTO:+0200
TZNAME:CEST
DTSTART:20250330T010000
END:DAYLIGHT
BEGIN:STANDARD
TZOFFSETFROM:+0200
TZOFFSETTO:+0100
TZNAME:CET
DTSTART:20251026T010000
END:STANDARD
BEGIN:DAYLIGHT
TZOFFSETFROM:+0100
TZOFFSETTO:+0200
TZNAME:CEST
DTSTART:20260329T010000
END:DAYLIGHT
BEGIN:STANDARD
TZOFFSETFROM:+0200
TZOFFSETTO:+0100
TZNAME:CET
DTSTART:20261025T010000
END:STANDARD
BEGIN:DAYLIGHT
TZOFFSETFROM:+0100
TZOFFSETTO:+0200
TZNAME:CEST
DTSTART:20270328T010000
END:DAYLIGHT
BEGIN:STANDARD
TZOFFSETFROM:+0200
TZOFFSETTO:+0100
TZNAME:CET
DTSTART:20271031T010000
END:STANDARD
BEGIN:DAYLIGHT
TZOFFSETFROM:+0100
TZOFFSETTO:+0200
TZNAME:CEST
DTSTART:20280326T010000
END:DAYLIGHT
BEGIN:STANDARD
TZOFFSETFROM:+0200
TZOFFSETTO:+0100
TZNAME:CET
DTSTART:20281029T010000
END:STANDARD
END:VTIMEZONE
BEGIN:VEVENT
DTSTART;TZID=Europe/Berlin:20260509T130000
DTEND;TZID=Europe/Berlin:20260509T150000
DTSTAMP:20260425T140627
CREATED:20250511T084000Z
LAST-MODIFIED:20251203T182409Z
UID:737-1778331600-1778338800@www.imkerverein-flensburg.de
SUMMARY:Ablegerbildung 2026
DESCRIPTION:
URL:https://www.imkerverein-flensburg.de/event/fruehjahrsdurchsicht-2026/
LOCATION:St. Georg Kirche\, Am Brautplatz\, Oeversee\, Schleswig-Holstein\, 24988\, Germany
CATEGORIES:Jungimkertreffen
END:VEVENT
BEGIN:VEVENT
DTSTART;TZID=Europe/Berlin:20260521T190000
DTEND;TZID=Europe/Berlin:20260521T213000
DTSTAMP:20260425T140627
CREATED:20250622T175921Z
LAST-MODIFIED:20260410T174440Z
UID:776-1779390000-1779399000@www.imkerverein-flensburg.de
SUMMARY:Mitgliederversammlung
DESCRIPTION:
URL:https://www.imkerverein-flensburg.de/event/imkerstammtisch-7/
LOCATION:Restaurant Mund und Art\, Wiesharder Markt 14\, Handewitt\, 24983\, Germany
CATEGORIES:Imkerstammtisch
END:VEVENT
BEGIN:VEVENT
DTSTART;TZID=Europe/Berlin:20260630T180000
DTEND;TZID=Europe/Berlin:20260630T190000
DTSTAMP:20260425T140627
CREATED:20260227T135649Z
LAST-MODIFIED:20260227T135649Z
UID:919-1782842400-1782846000@www.imkerverein-flensburg.de
SUMMARY:Varroa Befallsdiagnose
DESCRIPTION:oder Bienenaussschüllen mit CO2
URL:https://www.imkerverein-flensburg.de/event/varroa-befallsdiagnose/
LOCATION:Imkerei von Berg\, Nordertoft 28\, Meyn\, 24980\, Deutschland
CATEGORIES:Jungimkertreffen
END:VEVENT
BEGIN:VEVENT
DTSTART;TZID=Europe/Berlin:20260716T190000
DTEND;TZID=Europe/Berlin:20260716T210000
DTSTAMP:20260425T140627
CREATED:20250622T180018Z
LAST-MODIFIED:20260114T212940Z
UID:778-1784228400-1784235600@www.imkerverein-flensburg.de
SUMMARY:Imkerstammtisch
DESCRIPTION:
URL:https://www.imkerverein-flensburg.de/event/imkerstammtisch-8/
LOCATION:Restaurant Mund und Art\, Wiesharder Markt 14\, Handewitt\, 24983\, Germany
CATEGORIES:Imkerstammtisch
END:VEVENT
BEGIN:VEVENT
DTSTART;TZID=Europe/Berlin:20260731T180000
DTEND;TZID=Europe/Berlin:20260731T200000
DTSTAMP:20260425T140627
CREATED:20251026T145739Z
LAST-MODIFIED:20251026T145946Z
UID:796-1785520800-1785528000@www.imkerverein-flensburg.de
SUMMARY:Varroa als Vektor für Bienenkrankheiten (externer Vortrag)
DESCRIPTION:Vortrag von Dr. Hannes Beims (Fachberatung für Imkerei des Bezirkes Oberbayern) \nKostenlose Anmeldung bis zum 17. Juli bei Tanja Ohnrich\, Tel.: 0171-5386336
URL:https://www.imkerverein-flensburg.de/event/varroa-als-vektor-fuer-bienenkrankheiten-externer-vortrag/
LOCATION:Gasthof Norderbrarup\, Knüttelallee 2\, Norderbrarup\, 24392
END:VEVENT
BEGIN:VEVENT
DTSTART;TZID=Europe/Berlin:20260913T100000
DTEND;TZID=Europe/Berlin:20260913T130000
DTSTAMP:20260425T140627
CREATED:20260227T135727Z
LAST-MODIFIED:20260227T140134Z
UID:921-1789293600-1789304400@www.imkerverein-flensburg.de
SUMMARY:Jahresabschlussfrühstück
DESCRIPTION:
URL:https://www.imkerverein-flensburg.de/event/jahresabschlussfruehstueck/
LOCATION:Gemeinde Haus Oeversee\, Stapelholmer Weg 35A\, Oeversee\, Germany
CATEGORIES:Vortrag
END:VEVENT
BEGIN:VEVENT
DTSTART;TZID=Europe/Berlin:20260917T190000
DTEND;TZID=Europe/Berlin:20260917T220000
DTSTAMP:20260425T140627
CREATED:20260227T135354Z
LAST-MODIFIED:20260227T135354Z
UID:923-1789671600-1789682400@www.imkerverein-flensburg.de
SUMMARY:Imkerstammtisch
DESCRIPTION:
URL:https://www.imkerverein-flensburg.de/event/imkerstammtisch-9/
LOCATION:Restaurant Mund und Art\, Wiesharder Markt 14\, Handewitt\, 24983\, Germany
CATEGORIES:Imkerstammtisch
END:VEVENT
BEGIN:VEVENT
DTSTART;TZID=Europe/Berlin:20261028T190000
DTEND;TZID=Europe/Berlin:20261028T210000
DTSTAMP:20260425T140627
CREATED:20260227T135826Z
LAST-MODIFIED:20260227T135826Z
UID:927-1793214000-1793221200@www.imkerverein-flensburg.de
SUMMARY:Vortrag: Stockbuch
DESCRIPTION:
URL:https://www.imkerverein-flensburg.de/event/vortrag-stockbuch/
LOCATION:Gemeinde Haus Oeversee\, Stapelholmer Weg 35A\, Oeversee\, Germany
CATEGORIES:Vortrag
END:VEVENT
BEGIN:VEVENT
DTSTART;TZID=Europe/Berlin:20261119T190000
DTEND;TZID=Europe/Berlin:20261119T210000
DTSTAMP:20260425T140627
CREATED:20260227T140014Z
LAST-MODIFIED:20260227T140014Z
UID:929-1795114800-1795122000@www.imkerverein-flensburg.de
SUMMARY:Imkerstammtisch
DESCRIPTION:
URL:https://www.imkerverein-flensburg.de/event/imkerstammtisch-10/
LOCATION:Restaurant Mund und Art\, Wiesharder Markt 14\, Handewitt\, 24983\, Germany
CATEGORIES:Imkerstammtisch
END:VEVENT
BEGIN:VEVENT
DTSTART;TZID=Europe/Berlin:20261125T190000
DTEND;TZID=Europe/Berlin:20261125T220000
DTSTAMP:20260425T140627
CREATED:20251203T182649Z
LAST-MODIFIED:20251203T182649Z
UID:804-1795633200-1795644000@www.imkerverein-flensburg.de
SUMMARY:Weihnachtsfeier
DESCRIPTION:
URL:https://www.imkerverein-flensburg.de/event/weihnachtsfeier/
LOCATION:Gemeinde Haus Oeversee\, Stapelholmer Weg 35A\, Oeversee\, Germany
END:VEVENT
BEGIN:VEVENT
DTSTART;TZID=Europe/Berlin:20270129T183000
DTEND;TZID=Europe/Berlin:20270129T220000
DTSTAMP:20260425T140627
CREATED:20260227T135637Z
LAST-MODIFIED:20260227T135927Z
UID:925-1801247400-1801260000@www.imkerverein-flensburg.de
SUMMARY:Jahreshauptversammlung 2027
DESCRIPTION:
URL:https://www.imkerverein-flensburg.de/event/jahreshauptversammlung-2027/
LOCATION:Landgasthof Handewitt\, Osterstr. 2\, Handewitt\, 24983\, Germany
END:VEVENT
END:VCALENDAR